Workbook

Sheet Combined
F2: Comparison of 2020 and 2024 US Presidential Elections
F4: 2020 | S4: 2024 | AF4: What Changed?
C6: State | D6: Abbr | F6: Biden/Harris (D) | I6: Trump/Pence (R) | L6: All Others (O) | N6: Total | O6: Margin | S6: Harris/Walz (D) | V6: Trump/Vance (R) | Y6: All Others (O) | AA6: Total | AB6: Margin | AF6: D Change | AH6: R Change | AJ6: O Change | AL6: Total Votes Change | AN6: Margin Change
F7: Votes | G7: % | H7: EV | I7: Votes | J7: % | K7: EV | L7: Votes | M7: % | N7: Votes | O7: Votes | P7: % | Q7: For | S7: Votes | T7: % | U7: EV | V7: Votes | W7: % | X7: EV | Y7: Votes | Z7: % | AA7: Votes | AB7: Votes | AC7: % | AD7: For | AF7: Votes | AG7: % | AH7: Votes | AI7: % | AJ7: Votes | AK7: % | AL7: Votes | AM7: % | AN7: Votes | AO7: % | AP7: Toward | AQ7: Flip?
C8: Alabama | D8: AL | F8: 849624 | G8: =F8/N8 -> 0.3656999 | I8: 1441170 | J8: =I8/N8 -> 0.62031643 | K8: 9 | L8: 32488 | M8: =L8/N8 -> 0.013983666 | N8: 2323282 | O8: =ABS(F8-I8) -> 591546 | P8: =ABS(G8-J8) -> 0.25461653 | Q8: =IF(F8>I8,"D","R") -> R | S8: 772412 | T8: =S8/AA8 -> 0.3410072 | V8: 1462616 | W8: =V8/AA8 -> 0.64572092 | X8: 9 | Y8: 30062 | Z8: =Y8/AA8 -> 0.013271879 | AA8: 2265090 | AB8: =ABS(S8-V8) -> 690204 | AC8: =ABS(T8-W8) -> 0.30471372 | AD8: =IF(S8>V8,"D","R") -> R | AF8: =S8-F8 -> -77212 | AG8: =T8-G8 -> -0.024692702 | AH8: =V8-I8 -> 21446 | AI8: =W8-J8 -> 0.025404489 | AJ8: =Y8-L8 -> -2426 | AK8: =Z8-M8 -> -0.00071178739 | AL8: =AA8-N8 -> -58192 | AM8: =AL8/N8 -> -0.025047325 | AN8: =AB8-O8 -> 98658 | AO8: =AC8-P8 -> 0.05009719 | AP8: =IF(AF8>AH8,"D","R") -> R | AQ8: =IF(Q8<>AD8,"Y","")
C9: Alaska | D9: AK | F9: 153778 | G9: =F9/N9 -> 0.42771952 | I9: 189951 | J9: =I9/N9 -> 0.52833143 | K9: 3 | L9: 15801 | M9: =L9/N9 -> 0.043949045 | N9: 359530 | O9: =ABS(F9-I9) -> 36173 | P9: =ABS(G9-J9) -> 0.10061191 | Q9: =IF(F9>I9,"D","R") -> R | S9: 140026 | T9: 0.414 | V9: 184458 | W9: 0.545 | X9: 3 | Y9: 13693 | Z9: =Y9/AA9 -> 0.040490631 | AA9: 338177 | AB9: =ABS(S9-V9) -> 44432 | AC9: =ABS(T9-W9) -> 0.131 | AD9: =IF(S9>V9,"D","R") -> R | AF9: =S9-F9 -> -13752 | AG9: =T9-G9 -> -0.013719523 | AH9: =V9-I9 -> -5493 | AI9: =W9-J9 -> 0.016668567 | AJ9: =Y9-L9 -> -2108 | AK9: =Z9-M9 -> -0.0034584139 | AL9: =AA9-N9 -> -21353 | AM9: =AL9/N9 -> -0.059391428 | AN9: =AB9-O9 -> 8259 | AO9: =AC9-P9 -> 0.03038809 | AP9: =IF(AF9>AH9,"D","R") -> R | AQ9: =IF(Q9<>AD9,"Y","")
C10: Arizona | D10: AZ | F10: 1672143 | G10: =F10/N10 -> 0.49364691 | H10: 11 | I10: 1661686 | J10: =I10/N10 -> 0.49055981 | L10: 53497 | M10: =L10/N10 -> 0.015793284 | N10: 3387326 | O10: =ABS(F10-I10) -> 10457 | P10: =ABS(G10-J10) -> 0.0030870958 | Q10: =IF(F10>I10,"D","R") -> D | S10: 1582860 | T10: 0.467 | V10: 1770242 | W10: 0.522 | X10: 11 | Y10: 37059 | Z10: =Y10/AA10 -> 0.010931339 | AA10: 3390161 | AB10: =ABS(S10-V10) -> 187382 | AC10: =ABS(T10-W10) -> 0.055 | AD10: =IF(S10>V10,"D","R") -> R | AF10: =S10-F10 -> -89283 | AG10: =T10-G10 -> -0.026646906 | AH10: =V10-I10 -> 108556 | AI10: =W10-J10 -> 0.03144019 | AJ10: =Y10-L10 -> -16438 | AK10: =Z10-M10 -> -0.0048619443 | AL10: =AA10-N10 -> 2835 | AM10: =AL10/N10 -> 0.00083694336 | AN10: =AB10-O10 -> 176925 | AO10: =AC10-P10 -> 0.051912904 | AP10: =IF(AF10>AH10,"D","R") -> R | AQ10: =IF(Q10<>AD10,"Y","") -> Y
C11: Arkansas | D11: AR | F11: 423932 | G11: =F11/N11 -> 0.34775062 | I11: 760647 | J11: =I11/N11 -> 0.6239573 | K11: 6 | L11: 34490 | M11: =L11/N11 -> 0.028292082 | N11: 1219069 | O11: =ABS(F11-I11) -> 336715 | P11: =ABS(G11-J11) -> 0.27620668 | Q11: =IF(F11>I11,"D","R") -> R | S11: 396905 | T11: 0.336 | V11: 759241 | W11: 0.642 | X11: 6 | Y11: 26530 | Z11: =Y11/AA11 -> 0.022432179 | AA11: 1182676 | AB11: =ABS(S11-V11) -> 362336 | AC11: =ABS(T11-W11) -> 0.306 | AD11: =IF(S11>V11,"D","R") -> R | AF11: =S11-F11 -> -27027 | AG11: =T11-G11 -> -0.01175062 | AH11: =V11-I11 -> -1406 | AI11: =W11-J11 -> 0.018042701 | AJ11: =Y11-L11 -> -7960 | AK11: =Z11-M11 -> -0.0058599027 | AL11: =AA11-N11 -> -36393 | AM11: =AL11/N11 -> -0.029853109 | AN11: =AB11-O11 -> 25621 | AO11: =AC11-P11 -> 0.029793321 | AP11: =IF(AF11>AH11,"D","R") -> R | AQ11: =IF(Q11<>AD11,"Y","")
C12: California | D12: CA | F12: 11110639 | G12: =F12/N12 -> 0.6348436 | H12: 55 | I12: 6006518 | J12: =I12/N12 -> 0.34320254 | L12: 384223 | M12: =L12/N12 -> 0.021953869 | N12: 17501380 | O12: =ABS(F12-I12) -> 5104121 | P12: =ABS(G12-J12) -> 0.29164106 | Q12: =IF(F12>I12,"D","R") -> D | S12: 9276179 | T12: 0.585 | U12: 54 | V12: 6081697 | W12: 0.383 | Y12: 507599 | Z12: =Y12/AA12 -> 0.031993937 | AA12: 15865475 | AB12: =ABS(S12-V12) -> 3194482 | AC12: =ABS(T12-W12) -> 0.202 | AD12: =IF(S12>V12,"D","R") -> D | AF12: =S12-F12 -> -1834460 | AG12: =T12-G12 -> -0.049843595 | AH12: =V12-I12 -> 75179 | AI12: =W12-J12 -> 0.039797464 | AJ12: =Y12-L12 -> 123376 | AK12: =Z12-M12 -> 0.010040068 | AL12: =AA12-N12 -> -1635905 | AM12: =AL12/N12 -> -0.093472915 | AN12: =AB12-O12 -> -1909639 | AO12: =AC12-P12 -> -0.089641059 | AP12: =IF(AF12>AH12,"D","R") -> R | AQ12: =IF(Q12<>AD12,"Y","")
C13: Colorado | D13: CO | F13: 1804352 | G13: =F13/N13 -> 0.55399542 | H13: 9 | I13: 1364607 | J13: =I13/N13 -> 0.41897924 | L13: 88021 | M13: =L13/N13 -> 0.027025342 | N13: 3256980 | O13: =ABS(F13-I13) -> 439745 | P13: =ABS(G13-J13) -> 0.13501618 | Q13: =IF(F13>I13,"D","R") -> D | S13: 1728159 | T13: 0.542 | U13: 10 | V13: 1377441 | W13: 0.432 | Y13: 85273 | Z13: =Y13/AA13 -> 0.026724034 | AA13: 3190873 | AB13: =ABS(S13-V13) -> 350718 | AC13: =ABS(T13-W13) -> 0.11 | AD13: =IF(S13>V13,"D","R") -> D | AF13: =S13-F13 -> -76193 | AG13: =T13-G13 -> -0.011995419 | AH13: =V13-I13 -> 12834 | AI13: =W13-J13 -> 0.013020762 | AJ13: =Y13-L13 -> -2748 | AK13: =Z13-M13 -> -0.00030130804 | AL13: =AA13-N13 -> -66107 | AM13: =AL13/N13 -> -0.020297024 | AN13: =AB13-O13 -> -89027 | AO13: =AC13-P13 -> -0.025016181 | AP13: =IF(AF13>AH13,"D","R") -> R | AQ13: =IF(Q13<>AD13,"Y","")
C14: Connecticut | D14: CT | F14: 1080831 | G14: =F14/N14 -> 0.59260732 | H14: 7 | I14: 714717 | J14: =I14/N14 -> 0.39187118 | L14: 28309 | M14: =L14/N14 -> 0.015521502 | N14: 1823857 | O14: =ABS(F14-I14) -> 366114 | P14: =ABS(G14-J14) -> 0.20073613 | Q14: =IF(F14>I14,"D","R") -> D | S14: 992053 | T14: 0.564 | U14: 7 | V14: 736918 | W14: 0.419 | Y14: 30039 | Z14: =Y14/AA14 -> 0.01707722 | AA14: 1759010 | AB14: =ABS(S14-V14) -> 255135 | AC14: =ABS(T14-W14) -> 0.145 | AD14: =IF(S14>V14,"D","R") -> D | AF14: =S14-F14 -> -88778 | AG14: =T14-G14 -> -0.028607315 | AH14: =V14-I14 -> 22201 | AI14: =W14-J14 -> 0.027128817 | AJ14: =Y14-L14 -> 1730 | AK14: =Z14-M14 -> 0.0015557176 | AL14: =AA14-N14 -> -64847 | AM14: =AL14/N14 -> -0.035554871 | AN14: =AB14-O14 -> -110979 | AO14: =AC14-P14 -> -0.055736132 | AP14: =IF(AF14>AH14,"D","R") -> R | AQ14: =IF(Q14<>AD14,"Y","")
C15: Delaware | D15: DE | F15: 296268 | G15: =F15/N15 -> 0.58743006 | H15: 3 | I15: 200603 | J15: =I15/N15 -> 0.39774877 | L15: 7475 | M15: =L15/N15 -> 0.014821174 | N15: 504346 | O15: =ABS(F15-I15) -> 95665 | P15: =ABS(G15-J15) -> 0.18968129 | Q15: =IF(F15>I15,"D","R") -> D | S15: 289758 | T15: 0.566 | U15: 3 | V15: 214351 | W15: 0.419 | Y15: 7588 | Z15: =Y15/AA15 -> 0.014829088 | AA15: 511697 | AB15: =ABS(S15-V15) -> 75407 | AC15: =ABS(T15-W15) -> 0.147 | AD15: =IF(S15>V15,"D","R") -> D | AF15: =S15-F15 -> -6510 | AG15: =T15-G15 -> -0.021430058 | AH15: =V15-I15 -> 13748 | AI15: =W15-J15 -> 0.021251232 | AJ15: =Y15-L15 -> 113 | AK15: =Z15-M15 -> 7.9139556e-06 | AL15: =AA15-N15 -> 7351 | AM15: =AL15/N15 -> 0.014575311 | AN15: =AB15-O15 -> -20258 | AO15: =AC15-P15 -> -0.04268129 | AP15: =IF(AF15>AH15,"D","R") -> R | AQ15: =IF(Q15<>AD15,"Y","")
C16: District of Columbia | D16: DC | F16: 317323 | G16: =F16/N16 -> 0.92149694 | H16: 3 | I16: 18586 | J16: =I16/N16 -> 0.053973214 | L16: 8447 | M16: =L16/N16 -> 0.024529847 | N16: 344356 | O16: =ABS(F16-I16) -> 298737 | P16: =ABS(G16-J16) -> 0.86752373 | Q16: =IF(F16>I16,"D","R") -> D | S16: 294185 | T16: 0.903 | U16: 3 | V16: 21076 | W16: 0.065 | Y16: 10608 | Z16: =Y16/AA16 -> 0.032552958 | AA16: 325869 | AB16: =ABS(S16-V16) -> 273109 | AC16: =ABS(T16-W16) -> 0.838 | AD16: =IF(S16>V16,"D","R") -> D | AF16: =S16-F16 -> -23138 | AG16: =T16-G16 -> -0.018496939 | AH16: =V16-I16 -> 2490 | AI16: =W16-J16 -> 0.011026786 | AJ16: =Y16-L16 -> 2161 | AK16: =Z16-M16 -> 0.0080231114 | AL16: =AA16-N16 -> -18487 | AM16: =AL16/N16 -> -0.053685721 | AN16: =AB16-O16 -> -25628 | AO16: =AC16-P16 -> -0.029523725 | AP16: =IF(AF16>AH16,"D","R") -> R | AQ16: =IF(Q16<>AD16,"Y","")
C17: Florida | D17: FL | F17: 5297045 | G17: =F17/N17 -> 0.47861451 | I17: 5668731 | J17: =I17/N17 -> 0.5121982 | K17: 29 | L17: 101680 | M17: =L17/N17 -> 0.0091872965 | N17: 11067456 | O17: =ABS(F17-I17) -> 371686 | P17: =ABS(G17-J17) -> 0.033583689 | Q17: =IF(F17>I17,"D","R") -> R | S17: 4683038 | T17: 0.43 | V17: 6110125 | W17: 0.561 | X17: 30 | Y17: 100589 | Z17: =Y17/AA17 -> 0.0092336414 | AA17: 10893752 | AB17: =ABS(S17-V17) -> 1427087 | AC17: =ABS(T17-W17) -> 0.131 | AD17: =IF(S17>V17,"D","R") -> R | AF17: =S17-F17 -> -614007 | AG17: =T17-G17 -> -0.048614507 | AH17: =V17-I17 -> 441394 | AI17: =W17-J17 -> 0.048801804 | AJ17: =Y17-L17 -> -1091 | AK17: =Z17-M17 -> 4.6344928e-05 | AL17: =AA17-N17 -> -173704 | AM17: =AL17/N17 -> -0.015695025 | AN17: =AB17-O17 -> 1055401 | AO17: =AC17-P17 -> 0.097416311 | AP17: =IF(AF17>AH17,"D","R") -> R | AQ17: =IF(Q17<>AD17,"Y","")
C18: Georgia | D18: GA | F18: 2473633 | G18: =F18/N18 -> 0.49473056 | H18: 16 | I18: 2461854 | J18: =I18/N18 -> 0.49237474 | L18: 64473 | M18: =L18/N18 -> 0.012894703 | N18: 4999960 | O18: =ABS(F18-I18) -> 11779 | P18: =ABS(G18-J18) -> 0.0023558188 | Q18: =IF(F18>I18,"D","R") -> D | S18: 2548017 | T18: 0.485 | V18: 2663117 | W18: 0.507 | X18: 16 | Y18: 38913 | Z18: =Y18/AA18 -> 0.0074119336 | AA18: 5250047 | AB18: =ABS(S18-V18) -> 115100 | AC18: =ABS(T18-W18) -> 0.022 | AD18: =IF(S18>V18,"D","R") -> R | AF18: =S18-F18 -> 74384 | AG18: =T18-G18 -> -0.0097305578 | AH18: =V18-I18 -> 201263 | AI18: =W18-J18 -> 0.014625261 | AJ18: =Y18-L18 -> -25560 | AK18: =Z18-M18 -> -0.0054827695 | AL18: =AA18-N18 -> 250087 | AM18: =AL18/N18 -> 0.0500178 | AN18: =AB18-O18 -> 103321 | AO18: =AC18-P18 -> 0.019644181 | AP18: =IF(AF18>AH18,"D","R") -> R | AQ18: =IF(Q18<>AD18,"Y","") -> Y
C19: Hawaii | D19: HI | F19: 366130 | G19: =F19/N19 -> 0.63733639 | H19: 4 | I19: 196864 | J19: =I19/N19 -> 0.34268864 | L19: 11475 | M19: =L19/N19 -> 0.019974968 | N19: 574469 | O19: =ABS(F19-I19) -> 169266 | P19: =ABS(G19-J19) -> 0.29464775 | Q19: =IF(F19>I19,"D","R") -> D | S19: 313044 | T19: 0.606 | U19: 4 | V19: 193661 | W19: 0.375 | Y19: 9996 | Z19: =Y19/AA19 -> 0.019345811 | AA19: 516701 | AB19: =ABS(S19-V19) -> 119383 | AC19: =ABS(T19-W19) -> 0.231 | AD19: =IF(S19>V19,"D","R") -> D | AF19: =S19-F19 -> -53086 | AG19: =T19-G19 -> -0.031336392 | AH19: =V19-I19 -> -3203 | AI19: =W19-J19 -> 0.032311361 | AJ19: =Y19-L19 -> -1479 | AK19: =Z19-M19 -> -0.00062915697 | AL19: =AA19-N19 -> -57768 | AM19: =AL19/N19 -> -0.10055895 | AN19: =AB19-O19 -> -49883 | AO19: =AC19-P19 -> -0.063647753 | AP19: =IF(AF19>AH19,"D","R") -> R | AQ19: =IF(Q19<>AD19,"Y","")
C20: Idaho | D20: ID | F20: 287021 | G20: =F20/N20 -> 0.3306945 | I20: 554119 | J20: =I20/N20 -> 0.63843449 | K20: 4 | L20: 26794 | M20: =L20/N20 -> 0.030871011 | N20: 867934 | O20: =ABS(F20-I20) -> 267098 | P20: =ABS(G20-J20) -> 0.30773999 | Q20: =IF(F20>I20,"D","R") -> R | S20: 274972 | T20: 0.304 | V20: 605246 | W20: 0.669 | X20: 4 | Y20: 24594 | Z20: =Y20/AA20 -> 0.027181337 | AA20: 904812 | AB20: =ABS(S20-V20) -> 330274 | AC20: =ABS(T20-W20) -> 0.365 | AD20: =IF(S20>V20,"D","R") -> R | AF20: =S20-F20 -> -12049 | AG20: =T20-G20 -> -0.0266945 | AH20: =V20-I20 -> 51127 | AI20: =W20-J20 -> 0.030565511 | AJ20: =Y20-L20 -> -2200 | AK20: =Z20-M20 -> -0.0036896738 | AL20: =AA20-N20 -> 36878 | AM20: =AL20/N20 -> 0.042489406 | AN20: =AB20-O20 -> 63176 | AO20: =AC20-P20 -> 0.057260011 | AP20: =IF(AF20>AH20,"D","R") -> R | AQ20: =IF(Q20<>AD20,"Y","")
C21: Illinois | D21: IL | F21: 3471915 | G21: =F21/N21 -> 0.57541636 | H21: 20 | I21: 2446891 | J21: =I21/N21 -> 0.40553444 | L21: 114938 | M21: =L21/N21 -> 0.019049201 | N21: 6033744 | O21: =ABS(F21-I21) -> 1025024 | P21: =ABS(G21-J21) -> 0.16988192 | Q21: =IF(F21>I21,"D","R") -> D | S21: 3062863 | T21: 0.544 | U21: 19 | V21: 2449079 | W21: 0.435 | Y21: 121368 | Z21: =Y21/AA21 -> 0.021544705 | AA21: 5633310 | AB21: =ABS(S21-V21) -> 613784 | AC21: =ABS(T21-W21) -> 0.109 | AD21: =IF(S21>V21,"D","R") -> D | AF21: =S21-F21 -> -409052 | AG21: =T21-G21 -> -0.031416358 | AH21: =V21-I21 -> 2188 | AI21: =W21-J21 -> 0.029465559 | AJ21: =Y21-L21 -> 6430 | AK21: =Z21-M21 -> 0.002495504 | AL21: =AA21-N21 -> -400434 | AM21: =AL21/N21 -> -0.066365759 | AN21: =AB21-O21 -> -411240 | AO21: =AC21-P21 -> -0.060881917 | AP21: =IF(AF21>AH21,"D","R") -> R | AQ21: =IF(Q21<>AD21,"Y","")
C22: Indiana | D22: IN | F22: 1242498 | G22: =F22/N22 -> 0.40963138 | I22: 1729857 | J22: =I22/N22 -> 0.57030572 | K22: 11 | L22: 60855 | M22: =L22/N22 -> 0.020062904 | N22: 3033210 | O22: =ABS(F22-I22) -> 487359 | P22: =ABS(G22-J22) -> 0.16067434 | Q22: =IF(F22>I22,"D","R") -> R | S22: 1163603 | T22: 0.396 | V22: 1720347 | W22: 0.586 | X22: 11 | Y22: 52727 | Z22: =Y22/AA22 -> 0.017954647 | AA22: 2936677 | AB22: =ABS(S22-V22) -> 556744 | AC22: =ABS(T22-W22) -> 0.19 | AD22: =IF(S22>V22,"D","R") -> R | AF22: =S22-F22 -> -78895 | AG22: =T22-G22 -> -0.013631381 | AH22: =V22-I22 -> -9510 | AI22: =W22-J22 -> 0.015694284 | AJ22: =Y22-L22 -> -8128 | AK22: =Z22-M22 -> -0.0021082563 | AL22: =AA22-N22 -> -96533 | AM22: =AL22/N22 -> -0.03182536 | AN22: =AB22-O22 -> 69385 | AO22: =AC22-P22 -> 0.029325665 | AP22: =IF(AF22>AH22,"D","R") -> R | AQ22: =IF(Q22<>AD22,"Y","")
C23: Iowa | D23: IA | F23: 759061 | G23: =F23/N23 -> 0.44891716 | I23: 897672 | J23: =I23/N23 -> 0.53089325 | K23: 6 | L23: 34138 | M23: =L23/N23 -> 0.020189595 | N23: 1690871 | O23: =ABS(F23-I23) -> 138611 | P23: =ABS(G23-J23) -> 0.081976094 | Q23: =IF(F23>I23,"D","R") -> R | S23: 707278 | T23: 0.425 | V23: 927019 | W23: 0.557 | X23: 6 | Y23: 29209 | Z23: =Y23/AA23 -> 0.017558698 | AA23: 1663506 | AB23: =ABS(S23-V23) -> 219741 | AC23: =ABS(T23-W23) -> 0.132 | AD23: =IF(S23>V23,"D","R") -> R | AF23: =S23-F23 -> -51783 | AG23: =T23-G23 -> -0.023917156 | AH23: =V23-I23 -> 29347 | AI23: =W23-J23 -> 0.02610675 | AJ23: =Y23-L23 -> -4929 | AK23: =Z23-M23 -> -0.0026308963 | AL23: =AA23-N23 -> -27365 | AM23: =AL23/N23 -> -0.016183967 | AN23: =AB23-O23 -> 81130 | AO23: =AC23-P23 -> 0.050023906 | AP23: =IF(AF23>AH23,"D","R") -> R | AQ23: =IF(Q23<>AD23,"Y","")
C24: Kansas | D24: KS | F24: 570323 | G24: =F24/N24 -> 0.41508647 | I24: 771406 | J24: =I24/N24 -> 0.56143658 | K24: 6 | L24: 32257 | M24: =L24/N24 -> 0.02347695 | N24: 1373986 | O24: =ABS(F24-I24) -> 201083 | P24: =ABS(G24-J24) -> 0.14635011 | Q24: =IF(F24>I24,"D","R") -> R | S24: 544853 | T24: 0.41 | V24: 758802 | W24: 0.572 | X24: 6 | Y24: 23936 | Z24: =Y24/AA24 -> 0.018029649 | AA24: 1327591 | AB24: =ABS(S24-V24) -> 213949 | AC24: =ABS(T24-W24) -> 0.162 | AD24: =IF(S24>V24,"D","R") -> R | AF24: =S24-F24 -> -25470 | AG24: =T24-G24 -> -0.005086471 | AH24: =V24-I24 -> -12604 | AI24: =W24-J24 -> 0.010563421 | AJ24: =Y24-L24 -> -8321 | AK24: =Z24-M24 -> -0.0054473004 | AL24: =AA24-N24 -> -46395 | AM24: =AL24/N24 -> -0.03376672 | AN24: =AB24-O24 -> 12866 | AO24: =AC24-P24 -> 0.015649892 | AP24: =IF(AF24>AH24,"D","R") -> R | AQ24: =IF(Q24<>AD24,"Y","")
C25: Kentucky | D25: KY | F25: 772474 | G25: =F25/N25 -> 0.36151515 | I25: 1326646 | J25: =I25/N25 -> 0.62086572 | K25: 8 | L25: 37648 | M25: =L25/N25 -> 0.017619133 | N25: 2136768 | O25: =ABS(F25-I25) -> 554172 | P25: =ABS(G25-J25) -> 0.25935057 | Q25: =IF(F25>I25,"D","R") -> R | S25: 700921 | T25: 0.339 | V25: 1336230 | W25: 0.645 | X25: 8 | Y25: 32950 | Z25: =Y25/AA25 -> 0.015917098 | AA25: 2070101 | AB25: =ABS(S25-V25) -> 635309 | AC25: =ABS(T25-W25) -> 0.306 | AD25: =IF(S25>V25,"D","R") -> R | AF25: =S25-F25 -> -71553 | AG25: =T25-G25 -> -0.022515148 | AH25: =V25-I25 -> 9584 | AI25: =W25-J25 -> 0.024134281 | AJ25: =Y25-L25 -> -4698 | AK25: =Z25-M25 -> -0.0017020354 | AL25: =AA25-N25 -> -66667 | AM25: =AL25/N25 -> -0.031199924 | AN25: =AB25-O25 -> 81137 | AO25: =AC25-P25 -> 0.046649429 | AP25: =IF(AF25>AH25,"D","R") -> R | AQ25: =IF(Q25<>AD25,"Y","")
C26: Louisiana | D26: LA | F26: 856034 | G26: =F26/N26 -> 0.39851457 | I26: 1255776 | J26: =I26/N26 -> 0.58460882 | K26: 8 | L26: 36252 | M26: =L26/N26 -> 0.016876608 | N26: 2148062 | O26: =ABS(F26-I26) -> 399742 | P26: =ABS(G26-J26) -> 0.18609426 | Q26: =IF(F26>I26,"D","R") -> R | S26: 766870 | T26: 0.382 | V26: 1208505 | W26: 0.602 | X26: 8 | Y26: 31600 | Z26: =Y26/AA26 -> 0.015745089 | AA26: 2006975 | AB26: =ABS(S26-V26) -> 441635 | AC26: =ABS(T26-W26) -> 0.22 | AD26: =IF(S26>V26,"D","R") -> R | AF26: =S26-F26 -> -89164 | AG26: =T26-G26 -> -0.016514568 | AH26: =V26-I26 -> -47271 | AI26: =W26-J26 -> 0.017391176 | AJ26: =Y26-L26 -> -4652 | AK26: =Z26-M26 -> -0.0011315188 | AL26: =AA26-N26 -> -141087 | AM26: =AL26/N26 -> -0.065681065 | AN26: =AB26-O26 -> 41893 | AO26: =AC26-P26 -> 0.033905744 | AP26: =IF(AF26>AH26,"D","R") -> R | AQ26: =IF(Q26<>AD26,"Y","")
C27: Maine | D27: ME | F27: 435072 | G27: =F27/N27 -> 0.5309246 | H27: 3 | I27: 360737 | J27: =I27/N27 -> 0.44021253 | K27: 1 | L27: 23652 | M27: =L27/N27 -> 0.028862874 | N27: 819461 | O27: =ABS(F27-I27) -> 74335 | P27: =ABS(G27-J27) -> 0.090712066 | Q27: =IF(F27>I27,"D","R") -> D | S27: 435351 | T27: 0.524 | U27: 3 | V27: 377837 | W27: 0.455 | X27: 1 | Y27: 17801 | Z27: =Y27/AA27 -> 0.021421463 | AA27: 830989 | AB27: =ABS(S27-V27) -> 57514 | AC27: =ABS(T27-W27) -> 0.069 | AD27: =IF(S27>V27,"D","R") -> D | AF27: =S27-F27 -> 279 | AG27: =T27-G27 -> -0.0069245956 | AH27: =V27-I27 -> 17100 | AI27: =W27-J27 -> 0.01478747 | AJ27: =Y27-L27 -> -5851 | AK27: =Z27-M27 -> -0.0074414116 | AL27: =AA27-N27 -> 11528 | AM27: =AL27/N27 -> 0.014067784 | AN27: =AB27-O27 -> -16821 | AO27: =AC27-P27 -> -0.021712066 | AP27: =IF(AF27>AH27,"D","R") -> R | AQ27: =IF(Q27<>AD27,"Y","")
C28: Maryland | D28: MD | F28: 1985023 | G28: =F28/N28 -> 0.65360665 | H28: 10 | I28: 976414 | J28: =I28/N28 -> 0.32150292 | L28: 75593 | M28: =L28/N28 -> 0.024890436 | N28: 3037030 | O28: =ABS(F28-I28) -> 1008609 | P28: =ABS(G28-J28) -> 0.33210373 | Q28: =IF(F28>I28,"D","R") -> D | S28: 1902577 | T28: 0.626 | U28: 10 | V28: 1035550 | W28: 0.341 | Y28: 100207 | Z28: =Y28/AA28 -> 0.032980903 | AA28: 3038334 | AB28: =ABS(S28-V28) -> 867027 | AC28: =ABS(T28-W28) -> 0.285 | AD28: =IF(S28>V28,"D","R") -> D | AF28: =S28-F28 -> -82446 | AG28: =T28-G28 -> -0.027606649 | AH28: =V28-I28 -> 59136 | AI28: =W28-J28 -> 0.019497084 | AJ28: =Y28-L28 -> 24614 | AK28: =Z28-M28 -> 0.0080904676 | AL28: =AA28-N28 -> 1304 | AM28: =AL28/N28 -> 0.00042936685 | AN28: =AB28-O28 -> -141582 | AO28: =AC28-P28 -> -0.047103733 | AP28: =IF(AF28>AH28,"D","R") -> R | AQ28: =IF(Q28<>AD28,"Y","")
C29: Massachusetts | D29: MA | F29: 2382202 | G29: =F29/N29 -> 0.65600063 | H29: 11 | I29: 1167202 | J29: =I29/N29 -> 0.32141911 | L29: 81998 | M29: =L29/N29 -> 0.02258026 | N29: 3631402 | O29: =ABS(F29-I29) -> 1215000 | P29: =ABS(G29-J29) -> 0.33458152 | Q29: =IF(F29>I29,"D","R") -> D | S29: 2126545 | T29: 0.612 | U29: 11 | V29: 1251308 | W29: 0.36 | Y29: 95800 | Z29: =Y29/AA29 -> 0.027579036 | AA29: 3473653 | AB29: =ABS(S29-V29) -> 875237 | AC29: =ABS(T29-W29) -> 0.252 | AD29: =IF(S29>V29,"D","R") -> D | AF29: =S29-F29 -> -255657 | AG29: =T29-G29 -> -0.04400063 | AH29: =V29-I29 -> 84106 | AI29: =W29-J29 -> 0.03858089 | AJ29: =Y29-L29 -> 13802 | AK29: =Z29-M29 -> 0.004998776 | AL29: =AA29-N29 -> -157749 | AM29: =AL29/N29 -> -0.043440247 | AN29: =AB29-O29 -> -339763 | AO29: =AC29-P29 -> -0.08258152 | AP29: =IF(AF29>AH29,"D","R") -> R | AQ29: =IF(Q29<>AD29,"Y","")
C30: Michigan | D30: MI | F30: 2804040 | G30: =F30/N30 -> 0.50620818 | H30: 16 | I30: 2649852 | J30: =I30/N30 -> 0.47837291 | L30: 85410 | M30: =L30/N30 -> 0.01541891 | N30: 5539302 | O30: =ABS(F30-I30) -> 154188 | P30: =ABS(G30-J30) -> 0.027835276 | Q30: =IF(F30>I30,"D","R") -> D | S30: 2736533 | T30: 0.483 | V30: 2816636 | W30: 0.497 | X30: 15 | Y30: 111017 | Z30: =Y30/AA30 -> 0.019599815 | AA30: 5664186 | AB30: =ABS(S30-V30) -> 80103 | AC30: =ABS(T30-W30) -> 0.014 | AD30: =IF(S30>V30,"D","R") -> R | AF30: =S30-F30 -> -67507 | AG30: =T30-G30 -> -0.023208183 | AH30: =V30-I30 -> 166784 | AI30: =W30-J30 -> 0.018627093 | AJ30: =Y30-L30 -> 25607 | AK30: =Z30-M30 -> 0.0041809052 | AL30: =AA30-N30 -> 124884 | AM30: =AL30/N30 -> 0.022545079 | AN30: =AB30-O30 -> -74085 | AO30: =AC30-P30 -> -0.013835276 | AP30: =IF(AF30>AH30,"D","R") -> R | AQ30: =IF(Q30<>AD30,"Y","") -> Y
C31: Minnesota | D31: MN | F31: 1717077 | G31: =F31/N31 -> 0.52395099 | H31: 10 | I31: 1484065 | J31: =I31/N31 -> 0.45284942 | L31: 76029 | M31: =L31/N31 -> 0.023199583 | N31: 3277171 | O31: =ABS(F31-I31) -> 233012 | P31: =ABS(G31-J31) -> 0.071101569 | Q31: =IF(F31>I31,"D","R") -> D | S31: 1656979 | T31: 0.509 | U31: 10 | V31: 1519032 | W31: 0.467 | Y31: 77909 | Z31: =Y31/AA31 -> 0.023943121 | AA31: 3253920 | AB31: =ABS(S31-V31) -> 137947 | AC31: =ABS(T31-W31) -> 0.042 | AD31: =IF(S31>V31,"D","R") -> D | AF31: =S31-F31 -> -60098 | AG31: =T31-G31 -> -0.014950993 | AH31: =V31-I31 -> 34967 | AI31: =W31-J31 -> 0.014150576 | AJ31: =Y31-L31 -> 1880 | AK31: =Z31-M31 -> 0.0007435381 | AL31: =AA31-N31 -> -23251 | AM31: =AL31/N31 -> -0.0070948388 | AN31: =AB31-O31 -> -95065 | AO31: =AC31-P31 -> -0.029101569 | AP31: =IF(AF31>AH31,"D","R") -> R | AQ31: =IF(Q31<>AD31,"Y","")
C32: Mississippi | D32: MS | F32: 539398 | G32: =F32/N32 -> 0.41057606 | I32: 756764 | J32: =I32/N32 -> 0.57602955 | K32: 6 | L32: 17597 | M32: =L32/N32 -> 0.01339439 | N32: 1313759 | O32: =ABS(F32-I32) -> 217366 | P32: =ABS(G32-J32) -> 0.16545348 | Q32: =IF(F32>I32,"D","R") -> R | S32: 466668 | T32: 0.38 | V32: 747744 | W32: 0.609 | X32: 6 | Y32: 13596 | Z32: =Y32/AA32 -> 0.011071589 | AA32: 1228008 | AB32: =ABS(S32-V32) -> 281076 | AC32: =ABS(T32-W32) -> 0.229 | AD32: =IF(S32>V32,"D","R") -> R | AF32: =S32-F32 -> -72730 | AG32: =T32-G32 -> -0.030576065 | AH32: =V32-I32 -> -9020 | AI32: =W32-J32 -> 0.032970454 | AJ32: =Y32-L32 -> -4001 | AK32: =Z32-M32 -> -0.0023228006 | AL32: =AA32-N32 -> -85751 | AM32: =AL32/N32 -> -0.065271484 | AN32: =AB32-O32 -> 63710 | AO32: =AC32-P32 -> 0.063546519 | AP32: =IF(AF32>AH32,"D","R") -> R | AQ32: =IF(Q32<>AD32,"Y","")
C33: Missouri | D33: MO | F33: 1253014 | G33: =F33/N33 -> 0.41408782 | I33: 1718736 | J33: =I33/N33 -> 0.56799656 | K33: 10 | L33: 54212 | M33: =L33/N33 -> 0.017915625 | N33: 3025962 | O33: =ABS(F33-I33) -> 465722 | P33: =ABS(G33-J33) -> 0.15390874 | Q33: =IF(F33>I33,"D","R") -> R | S33: 1200599 | T33: 0.401 | V33: 1751986 | W33: 0.585 | X33: 10 | Y33: 42742 | Z33: =Y33/AA33 -> 0.014269561 | AA33: 2995327 | AB33: =ABS(S33-V33) -> 551387 | AC33: =ABS(T33-W33) -> 0.184 | AD33: =IF(S33>V33,"D","R") -> R | AF33: =S33-F33 -> -52415 | AG33: =T33-G33 -> -0.013087817 | AH33: =V33-I33 -> 33250 | AI33: =W33-J33 -> 0.017003442 | AJ33: =Y33-L33 -> -11470 | AK33: =Z33-M33 -> -0.0036460643 | AL33: =AA33-N33 -> -30635 | AM33: =AL33/N33 -> -0.010124053 | AN33: =AB33-O33 -> 85665 | AO33: =AC33-P33 -> 0.03009126 | AP33: =IF(AF33>AH33,"D","R") -> R | AQ33: =IF(Q33<>AD33,"Y","")
C34: Montana | D34: MT | F34: 244786 | G34: =F34/N34 -> 0.40549369 | I34: 343602 | J34: =I34/N34 -> 0.56918469 | K34: 3 | L34: 15286 | M34: =L34/N34 -> 0.025321614 | N34: 603674 | O34: =ABS(F34-I34) -> 98816 | P34: =ABS(G34-J34) -> 0.163691 | Q34: =IF(F34>I34,"D","R") -> R | S34: 231906 | T34: 0.385 | V34: 352079 | W34: 0.584 | X34: 4 | Y34: 18999 | Z34: =Y34/AA34 -> 0.031508299 | AA34: 602984 | AB34: =ABS(S34-V34) -> 120173 | AC34: =ABS(T34-W34) -> 0.199 | AD34: =IF(S34>V34,"D","R") -> R | AF34: =S34-F34 -> -12880 | AG34: =T34-G34 -> -0.020493694 | AH34: =V34-I34 -> 8477 | AI34: =W34-J34 -> 0.014815308 | AJ34: =Y34-L34 -> 3713 | AK34: =Z34-M34 -> 0.0061866847 | AL34: =AA34-N34 -> -690 | AM34: =AL34/N34 -> -0.001143001 | AN34: =AB34-O34 -> 21357 | AO34: =AC34-P34 -> 0.035309001 | AP34: =IF(AF34>AH34,"D","R") -> R | AQ34: =IF(Q34<>AD34,"Y","")
C35: Nebraska | D35: NE | F35: 374583 | G35: =F35/N35 -> 0.39166631 | H35: 1 | I35: 556846 | J35: =I35/N35 -> 0.58224163 | K35: 4 | L35: 24954 | M35: =L35/N35 -> 0.026092057 | N35: 956383 | O35: =ABS(F35-I35) -> 182263 | P35: =ABS(G35-J35) -> 0.19057532 | Q35: =IF(F35>I35,"D","R") -> R | S35: 369995 | T35: 0.389 | U35: 1 | V35: 564816 | W35: 0.593 | X35: 4 | Y35: 17371 | Z35: =Y35/AA35 -> 0.018243361 | AA35: 952182 | AB35: =ABS(S35-V35) -> 194821 | AC35: =ABS(T35-W35) -> 0.204 | AD35: =IF(S35>V35,"D","R") -> R | AF35: =S35-F35 -> -4588 | AG35: =T35-G35 -> -0.0026663094 | AH35: =V35-I35 -> 7970 | AI35: =W35-J35 -> 0.010758367 | AJ35: =Y35-L35 -> -7583 | AK35: =Z35-M35 -> -0.0078486962 | AL35: =AA35-N35 -> -4201 | AM35: =AL35/N35 -> -0.0043925917 | AN35: =AB35-O35 -> 12558 | AO35: =AC35-P35 -> 0.013424676 | AP35: =IF(AF35>AH35,"D","R") -> R | AQ35: =IF(Q35<>AD35,"Y","")
C36: Nevada | D36: NV | F36: 703486 | G36: =F36/N36 -> 0.50056782 | H36: 6 | I36: 669890 | J36: =I36/N36 -> 0.47666247 | L36: 32000 | M36: =L36/N36 -> 0.022769707 | N36: 1405376 | O36: =ABS(F36-I36) -> 33596 | P36: =ABS(G36-J36) -> 0.023905346 | Q36: =IF(F36>I36,"D","R") -> D | S36: 705197 | T36: 0.475 | V36: 751205 | W36: 0.506 | X36: 6 | Y36: 28438 | Z36: =Y36/AA36 -> 0.019152232 | AA36: 1484840 | AB36: =ABS(S36-V36) -> 46008 | AC36: =ABS(T36-W36) -> 0.031 | AD36: =IF(S36>V36,"D","R") -> R | AF36: =S36-F36 -> 1711 | AG36: =T36-G36 -> -0.02556782 | AH36: =V36-I36 -> 81315 | AI36: =W36-J36 -> 0.029337527 | AJ36: =Y36-L36 -> -3562 | AK36: =Z36-M36 -> -0.0036174753 | AL36: =AA36-N36 -> 79464 | AM36: =AL36/N36 -> 0.056542875 | AN36: =AB36-O36 -> 12412 | AO36: =AC36-P36 -> 0.0070946537 | AP36: =IF(AF36>AH36,"D","R") -> R | AQ36: =IF(Q36<>AD36,"Y","") -> Y
C37: New Hampshire | D37: NH | F37: 424937 | G37: =F37/N37 -> 0.52708306 | H37: 4 | I37: 365660 | J37: =I37/N37 -> 0.4535571 | L37: 15608 | M37: =L37/N37 -> 0.01935984 | N37: 806205 | O37: =ABS(F37-I37) -> 59277 | P37: =ABS(G37-J37) -> 0.073525964 | Q37: =IF(F37>I37,"D","R") -> D | S37: 418488 | T37: 0.507 | U37: 4 | V37: 395523 | W37: 0.479 | Y37: 12178 | Z37: =Y37/AA37 -> 0.014739969 | AA37: 826189 | AB37: =ABS(S37-V37) -> 22965 | AC37: =ABS(T37-W37) -> 0.028 | AD37: =IF(S37>V37,"D","R") -> D | AF37: =S37-F37 -> -6449 | AG37: =T37-G37 -> -0.020083062 | AH37: =V37-I37 -> 29863 | AI37: =W37-J37 -> 0.025442902 | AJ37: =Y37-L37 -> -3430 | AK37: =Z37-M37 -> -0.0046198715 | AL37: =AA37-N37 -> 19984 | AM37: =AL37/N37 -> 0.02478774 | AN37: =AB37-O37 -> -36312 | AO37: =AC37-P37 -> -0.045525964 | AP37: =IF(AF37>AH37,"D","R") -> R | AQ37: =IF(Q37<>AD37,"Y","")
C38: New Jersey | D38: NJ | F38: 2608400 | G38: =F38/N38 -> 0.57334315 | H38: 14 | I38: 1883313 | J38: =I38/N38 -> 0.41396435 | L38: 57744 | M38: =L38/N38 -> 0.012692504 | N38: 4549457 | O38: =ABS(F38-I38) -> 725087 | P38: =ABS(G38-J38) -> 0.1593788 | Q38: =IF(F38>I38,"D","R") -> D | S38: 2220713 | T38: 0.52 | U38: 14 | V38: 1968215 | W38: 0.461 | Y38: 83797 | Z38: =Y38/AA38 -> 0.019612074 | AA38: 4272725 | AB38: =ABS(S38-V38) -> 252498 | AC38: =ABS(T38-W38) -> 0.059 | AD38: =IF(S38>V38,"D","R") -> D | AF38: =S38-F38 -> -387687 | AG38: =T38-G38 -> -0.053343148 | AH38: =V38-I38 -> 84902 | AI38: =W38-J38 -> 0.047035652 | AJ38: =Y38-L38 -> 26053 | AK38: =Z38-M38 -> 0.0069195705 | AL38: =AA38-N38 -> -276732 | AM38: =AL38/N38 -> -0.060827479 | AN38: =AB38-O38 -> -472589 | AO38: =AC38-P38 -> -0.1003788 | AP38: =IF(AF38>AH38,"D","R") -> R | AQ38: =IF(Q38<>AD38,"Y","")
C39: New Mexico | D39: NM | F39: 501614 | G39: =F39/N39 -> 0.54289286 | H39: 5 | I39: 401894 | J39: =I39/N39 -> 0.43496669 | L39: 20457 | M39: =L39/N39 -> 0.022140449 | N39: 923965 | O39: =ABS(F39-I39) -> 99720 | P39: =ABS(G39-J39) -> 0.10792617 | Q39: =IF(F39>I39,"D","R") -> D | S39: 478802 | T39: 0.519 | U39: 5 | V39: 423391 | W39: 0.459 | Y39: 21210 | Z39: =Y39/AA39 -> 0.022969386 | AA39: 923403 | AB39: =ABS(S39-V39) -> 55411 | AC39: =ABS(T39-W39) -> 0.06 | AD39: =IF(S39>V39,"D","R") -> D | AF39: =S39-F39 -> -22812 | AG39: =T39-G39 -> -0.023892858 | AH39: =V39-I39 -> 21497 | AI39: =W39-J39 -> 0.024033308 | AJ39: =Y39-L39 -> 753 | AK39: =Z39-M39 -> 0.00082893702 | AL39: =AA39-N39 -> -562 | AM39: =AL39/N39 -> -0.00060824815 | AN39: =AB39-O39 -> -44309 | AO39: =AC39-P39 -> -0.047926166 | AP39: =IF(AF39>AH39,"D","R") -> R | AQ39: =IF(Q39<>AD39,"Y","")
C40: New York | D40: NY | F40: 5244886 | G40: =F40/N40 -> 0.6086771 | H40: 29 | I40: 3251997 | J40: =I40/N40 -> 0.37739926 | L40: 119978 | M40: =L40/N40 -> 0.013923632 | N40: 8616861 | O40: =ABS(F40-I40) -> 1992889 | P40: =ABS(G40-J40) -> 0.23127784 | Q40: =IF(F40>I40,"D","R") -> D | S40: 4619195 | T40: 0.559 | U40: 28 | V40: 3578899 | W40: 0.433 | Y40: 64401 | Z40: =Y40/AA40 -> 0.0077943769 | AA40: 8262495 | AB40: =ABS(S40-V40) -> 1040296 | AC40: =ABS(T40-W40) -> 0.126 | AD40: =IF(S40>V40,"D","R") -> D | AF40: =S40-F40 -> -625691 | AG40: =T40-G40 -> -0.049677104 | AH40: =V40-I40 -> 326902 | AI40: =W40-J40 -> 0.055600736 | AJ40: =Y40-L40 -> -55577 | AK40: =Z40-M40 -> -0.0061292549 | AL40: =AA40-N40 -> -354366 | AM40: =AL40/N40 -> -0.04112472 | AN40: =AB40-O40 -> -952593 | AO40: =AC40-P40 -> -0.10527784 | AP40: =IF(AF40>AH40,"D","R") -> R | AQ40: =IF(Q40<>AD40,"Y","")
C41: North Carolina | D41: NC | F41: 2684292 | G41: =F41/N41 -> 0.48586194 | I41: 2758775 | J41: =I41/N41 -> 0.49934351 | K41: 15 | L41: 81737 | M41: =L41/N41 -> 0.014794552 | N41: 5524804 | O41: =ABS(F41-I41) -> 74483 | P41: =ABS(G41-J41) -> 0.013481564 | Q41: =IF(F41>I41,"D","R") -> R | S41: 2715378 | T41: 0.477 | V41: 2898424 | W41: 0.509 | X41: 16 | Y41: 85343 | Z41: =Y41/AA41 -> 0.014974702 | AA41: 5699145 | AB41: =ABS(S41-V41) -> 183046 | AC41: =ABS(T41-W41) -> 0.032 | AD41: =IF(S41>V41,"D","R") -> R | AF41: =S41-F41 -> 31086 | AG41: =T41-G41 -> -0.0088619419 | AH41: =V41-I41 -> 139649 | AI41: =W41-J41 -> 0.0096564939 | AJ41: =Y41-L41 -> 3606 | AK41: =Z41-M41 -> 0.00018015036 | AL41: =AA41-N41 -> 174341 | AM41: =AL41/N41 -> 0.031556052 | AN41: =AB41-O41 -> 108563 | AO41: =AC41-P41 -> 0.018518436 | AP41: =IF(AF41>AH41,"D","R") -> R | AQ41: =IF(Q41<>AD41,"Y","")
C42: North Dakota | D42: ND | F42: 115042 | G42: =F42/N42 -> 0.31777451 | I42: 235751 | J42: =I42/N42 -> 0.65120268 | K42: 3 | L42: 11231 | M42: =L42/N42 -> 0.031022805 | N42: 362024 | O42: =ABS(F42-I42) -> 120709 | P42: =ABS(G42-J42) -> 0.33342817 | Q42: =IF(F42>I42,"D","R") -> R | S42: 112327 | T42: 0.305 | V42: 246505 | W42: 0.67 | X42: 3 | Y42: 9323 | Z42: =Y42/AA42 -> 0.025323573 | AA42: 368155 | AB42: =ABS(S42-V42) -> 134178 | AC42: =ABS(T42-W42) -> 0.365 | AD42: =IF(S42>V42,"D","R") -> R | AF42: =S42-F42 -> -2715 | AG42: =T42-G42 -> -0.012774512 | AH42: =V42-I42 -> 10754 | AI42: =W42-J42 -> 0.018797317 | AJ42: =Y42-L42 -> -1908 | AK42: =Z42-M42 -> -0.0056992322 | AL42: =AA42-N42 -> 6131 | AM42: =AL42/N42 -> 0.016935341 | AN42: =AB42-O42 -> 13469 | AO42: =AC42-P42 -> 0.031571829 | AP42: =IF(AF42>AH42,"D","R") -> R | AQ42: =IF(Q42<>AD42,"Y","")
C43: Ohio | D43: OH | F43: 2679165 | G43: =F43/N43 -> 0.45239338 | I43: 3154834 | J43: =I43/N43 -> 0.532713 | K43: 18 | L43: 88203 | M43: =L43/N43 -> 0.014893616 | N43: 5922202 | O43: =ABS(F43-I43) -> 475669 | P43: =ABS(G43-J43) -> 0.080319618 | Q43: =IF(F43>I43,"D","R") -> R | S43: 2533699 | T43: 0.439 | V43: 3180116 | W43: 0.551 | X43: 17 | Y43: 53973 | Z43: =Y43/AA43 -> 0.0093576602 | AA43: 5767788 | AB43: =ABS(S43-V43) -> 646417 | AC43: =ABS(T43-W43) -> 0.112 | AD43: =IF(S43>V43,"D","R") -> R | AF43: =S43-F43 -> -145466 | AG43: =T43-G43 -> -0.013393383 | AH43: =V43-I43 -> 25282 | AI43: =W43-J43 -> 0.018286999 | AJ43: =Y43-L43 -> -34230 | AK43: =Z43-M43 -> -0.0055359554 | AL43: =AA43-N43 -> -154414 | AM43: =AL43/N43 -> -0.026073748 | AN43: =AB43-O43 -> 170748 | AO43: =AC43-P43 -> 0.031680382 | AP43: =IF(AF43>AH43,"D","R") -> R | AQ43: =IF(Q43<>AD43,"Y","")
C44: Oklahoma | D44: OK | F44: 503890 | G44: =F44/N44 -> 0.32286174 | I44: 1020280 | J44: =I44/N44 -> 0.65373272 | K44: 7 | L44: 36529 | M44: =L44/N44 -> 0.023405538 | N44: 1560699 | O44: =ABS(F44-I44) -> 516390 | P44: =ABS(G44-J44) -> 0.33087098 | Q44: =IF(F44>I44,"D","R") -> R | S44: 499599 | T44: 0.319 | V44: 1036213 | W44: 0.662 | X44: 7 | Y44: 30361 | Z44: =Y44/AA44 -> 0.01938547 | AA44: 1566173 | AB44: =ABS(S44-V44) -> 536614 | AC44: =ABS(T44-W44) -> 0.343 | AD44: =IF(S44>V44,"D","R") -> R | AF44: =S44-F44 -> -4291 | AG44: =T44-G44 -> -0.0038617434 | AH44: =V44-I44 -> 15933 | AI44: =W44-J44 -> 0.0082672815 | AJ44: =Y44-L44 -> -6168 | AK44: =Z44-M44 -> -0.004020068 | AL44: =AA44-N44 -> 5474 | AM44: =AL44/N44 -> 0.0035074028 | AN44: =AB44-O44 -> 20224 | AO44: =AC44-P44 -> 0.012129025 | AP44: =IF(AF44>AH44,"D","R") -> R | AQ44: =IF(Q44<>AD44,"Y","")
C45: Oregon | D45: OR | F45: 1340383 | G45: =F45/N45 -> 0.56453319 | H45: 7 | I45: 958448 | J45: =I45/N45 -> 0.40367246 | L45: 75490 | M45: =L45/N45 -> 0.031794353 | N45: 2374321 | O45: =ABS(F45-I45) -> 381935 | P45: =ABS(G45-J45) -> 0.16086073 | Q45: =IF(F45>I45,"D","R") -> D | S45: 1240600 | T45: 0.553 | U45: 8 | V45: 919480 | W45: 0.41 | Y45: 84413 | Z45: =Y45/AA45 -> 0.037608939 | AA45: 2244493 | AB45: =ABS(S45-V45) -> 321120 | AC45: =ABS(T45-W45) -> 0.143 | AD45: =IF(S45>V45,"D","R") -> D | AF45: =S45-F45 -> -99783 | AG45: =T45-G45 -> -0.011533187 | AH45: =V45-I45 -> -38968 | AI45: =W45-J45 -> 0.0063275395 | AJ45: =Y45-L45 -> 8923 | AK45: =Z45-M45 -> 0.0058145859 | AL45: =AA45-N45 -> -129828 | AM45: =AL45/N45 -> -0.054680054 | AN45: =AB45-O45 -> -60815 | AO45: =AC45-P45 -> -0.017860726 | AP45: =IF(AF45>AH45,"D","R") -> R | AQ45: =IF(Q45<>AD45,"Y","")
C46: Pennsylvania | D46: PA | F46: 3458229 | G46: =F46/N46 -> 0.49852111 | H46: 20 | I46: 3377674 | J46: =I46/N46 -> 0.4869087 | L46: 101073 | M46: =L46/N46 -> 0.014570182 | N46: 6936976 | O46: =ABS(F46-I46) -> 80555 | P46: =ABS(G46-J46) -> 0.011612409 | Q46: =IF(F46>I46,"D","R") -> D | S46: 3423042 | T46: 0.487 | V46: 3543308 | W46: 0.504 | X46: 19 | Y46: 67856 | Z46: =Y46/AA46 -> 0.0096465756 | AA46: 7034206 | AB46: =ABS(S46-V46) -> 120266 | AC46: =ABS(T46-W46) -> 0.017 | AD46: =IF(S46>V46,"D","R") -> R | AF46: =S46-F46 -> -35187 | AG46: =T46-G46 -> -0.011521114 | AH46: =V46-I46 -> 165634 | AI46: =W46-J46 -> 0.017091295 | AJ46: =Y46-L46 -> -33217 | AK46: =Z46-M46 -> -0.004923606 | AL46: =AA46-N46 -> 97230 | AM46: =AL46/N46 -> 0.014016194 | AN46: =AB46-O46 -> 39711 | AO46: =AC46-P46 -> 0.0053875914 | AP46: =IF(AF46>AH46,"D","R") -> R | AQ46: =IF(Q46<>AD46,"Y","") -> Y
C47: Rhode Island | D47: RI | F47: 307486 | G47: =F47/N47 -> 0.59388091 | H47: 4 | I47: 199922 | J47: =I47/N47 -> 0.38613095 | L47: 10349 | M47: =L47/N47 -> 0.019988141 | N47: 517757 | O47: =ABS(F47-I47) -> 107564 | P47: =ABS(G47-J47) -> 0.20774997 | Q47: =IF(F47>I47,"D","R") -> D | S47: 285156 | T47: 0.555 | U47: 4 | V47: 214406 | W47: 0.418 | Y47: 13824 | Z47: =Y47/AA47 -> 0.026927107 | AA47: 513386 | AB47: =ABS(S47-V47) -> 70750 | AC47: =ABS(T47-W47) -> 0.137 | AD47: =IF(S47>V47,"D","R") -> D | AF47: =S47-F47 -> -22330 | AG47: =T47-G47 -> -0.038880913 | AH47: =V47-I47 -> 14484 | AI47: =W47-J47 -> 0.031869054 | AJ47: =Y47-L47 -> 3475 | AK47: =Z47-M47 -> 0.0069389663 | AL47: =AA47-N47 -> -4371 | AM47: =AL47/N47 -> -0.0084421843 | AN47: =AB47-O47 -> -36814 | AO47: =AC47-P47 -> -0.070749968 | AP47: =IF(AF47>AH47,"D","R") -> R | AQ47: =IF(Q47<>AD47,"Y","")
C48: South Carolina | D48: SC | F48: 1091541 | G48: =F48/N48 -> 0.43430088 | I48: 1385103 | J48: =I48/N48 -> 0.55110294 | K48: 9 | L48: 36685 | M48: =L48/N48 -> 0.014596179 | N48: 2513329 | O48: =ABS(F48-I48) -> 293562 | P48: =ABS(G48-J48) -> 0.11680206 | Q48: =IF(F48>I48,"D","R") -> R | S48: 1028452 | T48: 0.404 | V48: 1483747 | W48: 0.582 | X48: 9 | Y48: 35941 | Z48: =Y48/AA48 -> 0.014104798 | AA48: 2548140 | AB48: =ABS(S48-V48) -> 455295 | AC48: =ABS(T48-W48) -> 0.178 | AD48: =IF(S48>V48,"D","R") -> R | AF48: =S48-F48 -> -63089 | AG48: =T48-G48 -> -0.030300881 | AH48: =V48-I48 -> 98644 | AI48: =W48-J48 -> 0.03089706 | AJ48: =Y48-L48 -> -744 | AK48: =Z48-M48 -> -0.000491381 | AL48: =AA48-N48 -> 34811 | AM48: =AL48/N48 -> 0.013850554 | AN48: =AB48-O48 -> 161733 | AO48: =AC48-P48 -> 0.061197942 | AP48: =IF(AF48>AH48,"D","R") -> R | AQ48: =IF(Q48<>AD48,"Y","")
C49: South Dakota | D49: SD | F49: 150471 | G49: =F49/N49 -> 0.35605252 | I49: 261043 | J49: =I49/N49 -> 0.6176939 | K49: 3 | L49: 11095 | M49: =L49/N49 -> 0.026253582 | N49: 422609 | O49: =ABS(F49-I49) -> 110572 | P49: =ABS(G49-J49) -> 0.26164138 | Q49: =IF(F49>I49,"D","R") -> R | S49: 146859 | T49: 0.342 | V49: 272081 | W49: 0.634 | X49: 3 | Y49: 9982 | Z49: =Y49/AA49 -> 0.023272297 | AA49: 428922 | AB49: =ABS(S49-V49) -> 125222 | AC49: =ABS(T49-W49) -> 0.292 | AD49: =IF(S49>V49,"D","R") -> R | AF49: =S49-F49 -> -3612 | AG49: =T49-G49 -> -0.014052521 | AH49: =V49-I49 -> 11038 | AI49: =W49-J49 -> 0.016306103 | AJ49: =Y49-L49 -> -1113 | AK49: =Z49-M49 -> -0.0029812853 | AL49: =AA49-N49 -> 6313 | AM49: =AL49/N49 -> 0.014938158 | AN49: =AB49-O49 -> 14650 | AO49: =AC49-P49 -> 0.030358625 | AP49: =IF(AF49>AH49,"D","R") -> R | AQ49: =IF(Q49<>AD49,"Y","")
C50: Tennessee | D50: TN | F50: 1143711 | G50: =F50/N50 -> 0.37451434 | I50: 1852475 | J50: =I50/N50 -> 0.60660294 | K50: 11 | L50: 57665 | M50: =L50/N50 -> 0.018882716 | N50: 3053851 | O50: =ABS(F50-I50) -> 708764 | P50: =ABS(G50-J50) -> 0.2320886 | Q50: =IF(F50>I50,"D","R") -> R | S50: 1056265 | T50: 0.345 | V50: 1966865 | W50: 0.642 | X50: 11 | Y50: 19277 | Z50: =Y50/AA50 -> 0.0063361016 | AA50: 3042407 | AB50: =ABS(S50-V50) -> 910600 | AC50: =ABS(T50-W50) -> 0.297 | AD50: =IF(S50>V50,"D","R") -> R | AF50: =S50-F50 -> -87446 | AG50: =T50-G50 -> -0.029514343 | AH50: =V50-I50 -> 114390 | AI50: =W50-J50 -> 0.035397058 | AJ50: =Y50-L50 -> -38388 | AK50: =Z50-M50 -> -0.012546614 | AL50: =AA50-N50 -> -11444 | AM50: =AL50/N50 -> -0.0037473996 | AN50: =AB50-O50 -> 201836 | AO50: =AC50-P50 -> 0.064911401 | AP50: =IF(AF50>AH50,"D","R") -> R | AQ50: =IF(Q50<>AD50,"Y","")
C51: Texas | D51: TX | F51: 5259126 | G51: =F51/N51 -> 0.4647901 | I51: 5890347 | J51: =I51/N51 -> 0.52057604 | K51: 38 | L51: 165583 | M51: =L51/N51 -> 0.014633865 | N51: 11315056 | O51: =ABS(F51-I51) -> 631221 | P51: =ABS(G51-J51) -> 0.055785937 | Q51: =IF(F51>I51,"D","R") -> R | S51: 4835250 | T51: 0.425 | V51: 6393597 | W51: 0.561 | X51: 40 | Y51: 159827 | Z51: =Y51/AA51 -> 0.014033855 | AA51: 11388674 | AB51: =ABS(S51-V51) -> 1558347 | AC51: =ABS(T51-W51) -> 0.136 | AD51: =IF(S51>V51,"D","R") -> R | AF51: =S51-F51 -> -423876 | AG51: =T51-G51 -> -0.039790099 | AH51: =V51-I51 -> 503250 | AI51: =W51-J51 -> 0.040423964 | AJ51: =Y51-L51 -> -5756 | AK51: =Z51-M51 -> -0.00060000979 | AL51: =AA51-N51 -> 73618 | AM51: =AL51/N51 -> 0.0065061985 | AN51: =AB51-O51 -> 927126 | AO51: =AC51-P51 -> 0.080214063 | AP51: =IF(AF51>AH51,"D","R") -> R | AQ51: =IF(Q51<>AD51,"Y","")
C52: Utah | D52: UT | F52: 560282 | G52: =F52/N52 -> 0.37646049 | I52: 865140 | J52: =I52/N52 -> 0.58129839 | K52: 6 | L52: 62867 | M52: =L52/N52 -> 0.042241124 | N52: 1488289 | O52: =ABS(F52-I52) -> 304858 | P52: =ABS(G52-J52) -> 0.2048379 | Q52: =IF(F52>I52,"D","R") -> R | S52: 562566 | T52: 0.378 | V52: 883818 | W52: 0.594 | X52: 6 | Y52: 41626 | Z52: =Y52/AA52 -> 0.027974274 | AA52: 1488010 | AB52: =ABS(S52-V52) -> 321252 | AC52: =ABS(T52-W52) -> 0.216 | AD52: =IF(S52>V52,"D","R") -> R | AF52: =S52-F52 -> 2284 | AG52: =T52-G52 -> 0.0015395142 | AH52: =V52-I52 -> 18678 | AI52: =W52-J52 -> 0.01270161 | AJ52: =Y52-L52 -> -21241 | AK52: =Z52-M52 -> -0.01426685 | AL52: =AA52-N52 -> -279 | AM52: =AL52/N52 -> -0.00018746359 | AN52: =AB52-O52 -> 16394 | AO52: =AC52-P52 -> 0.011162096 | AP52: =IF(AF52>AH52,"D","R") -> R | AQ52: =IF(Q52<>AD52,"Y","")
C53: Vermont | D53: VT | F53: 242820 | G53: =F53/N53 -> 0.66086417 | H53: 3 | I53: 112704 | J53: =I53/N53 -> 0.30673765 | L53: 11904 | M53: =L53/N53 -> 0.032398184 | N53: 367428 | O53: =ABS(F53-I53) -> 130116 | P53: =ABS(G53-J53) -> 0.35412652 | Q53: =IF(F53>I53,"D","R") -> D | S53: 235791 | T53: 0.632 | U53: 3 | V53: 119395 | W53: 0.32 | Y53: 14236 | Z53: =Y53/AA53 -> 0.038535875 | AA53: 369422 | AB53: =ABS(S53-V53) -> 116396 | AC53: =ABS(T53-W53) -> 0.312 | AD53: =IF(S53>V53,"D","R") -> D | AF53: =S53-F53 -> -7029 | AG53: =T53-G53 -> -0.028864169 | AH53: =V53-I53 -> 6691 | AI53: =W53-J53 -> 0.013262353 | AJ53: =Y53-L53 -> 2332 | AK53: =Z53-M53 -> 0.0061376908 | AL53: =AA53-N53 -> 1994 | AM53: =AL53/N53 -> 0.0054269136 | AN53: =AB53-O53 -> -13720 | AO53: =AC53-P53 -> -0.042126523 | AP53: =IF(AF53>AH53,"D","R") -> R | AQ53: =IF(Q53<>AD53,"Y","")
C54: Virginia | D54: VA | F54: 2413568 | G54: =F54/N54 -> 0.54109517 | H54: 13 | I54: 1962430 | J54: =I54/N54 -> 0.43995504 | L54: 84526 | M54: =L54/N54 -> 0.018949792 | N54: 4460524 | O54: =ABS(F54-I54) -> 451138 | P54: =ABS(G54-J54) -> 0.10114014 | Q54: =IF(F54>I54,"D","R") -> D | S54: 2335395 | T54: 0.518 | U54: 13 | V54: 2075085 | W54: 0.461 | Y54: 95461 | Z54: =Y54/AA54 -> 0.021185586 | AA54: 4505941 | AB54: =ABS(S54-V54) -> 260310 | AC54: =ABS(T54-W54) -> 0.057 | AD54: =IF(S54>V54,"D","R") -> D | AF54: =S54-F54 -> -78173 | AG54: =T54-G54 -> -0.023095172 | AH54: =V54-I54 -> 112655 | AI54: =W54-J54 -> 0.021044963 | AJ54: =Y54-L54 -> 10935 | AK54: =Z54-M54 -> 0.0022357943 | AL54: =AA54-N54 -> 45417 | AM54: =AL54/N54 -> 0.010181988 | AN54: =AB54-O54 -> -190828 | AO54: =AC54-P54 -> -0.044140135 | AP54: =IF(AF54>AH54,"D","R") -> R | AQ54: =IF(Q54<>AD54,"Y","")
C55: Washington | D55: WA | F55: 2369612 | G55: =F55/N55 -> 0.57970301 | H55: 12 | I55: 1584651 | J55: =I55/N55 -> 0.38766978 | L55: 133368 | M55: =L55/N55 -> 0.032627211 | N55: 4087631 | O55: =ABS(F55-I55) -> 784961 | P55: =ABS(G55-J55) -> 0.19203323 | Q55: =IF(F55>I55,"D","R") -> D | S55: 2245849 | T55: 0.572 | U55: 12 | V55: 1530923 | W55: 0.39 | Y55: 147471 | Z55: =Y55/AA55 -> 0.037579477 | AA55: 3924243 | AB55: =ABS(S55-V55) -> 714926 | AC55: =ABS(T55-W55) -> 0.182 | AD55: =IF(S55>V55,"D","R") -> D | AF55: =S55-F55 -> -123763 | AG55: =T55-G55 -> -0.0077030114 | AH55: =V55-I55 -> -53728 | AI55: =W55-J55 -> 0.0023302226 | AJ55: =Y55-L55 -> 14103 | AK55: =Z55-M55 -> 0.0049522659 | AL55: =AA55-N55 -> -163388 | AM55: =AL55/N55 -> -0.039971318 | AN55: =AB55-O55 -> -70035 | AO55: =AC55-P55 -> -0.010033234 | AP55: =IF(AF55>AH55,"D","R") -> R | AQ55: =IF(Q55<>AD55,"Y","")
C56: West Virginia | D56: WV | F56: 235984 | G56: =F56/N56 -> 0.29693569 | I56: 545382 | J56: =I56/N56 -> 0.6862473 | K56: 5 | L56: 13365 | M56: =L56/N56 -> 0.016817011 | N56: 794731 | O56: =ABS(F56-I56) -> 309398 | P56: =ABS(G56-J56) -> 0.3893116 | Q56: =IF(F56>I56,"D","R") -> R | S56: 214309 | T56: 0.281 | V56: 533556 | W56: 0.7 | X56: 4 | Y56: 14525 | Z56: =Y56/AA56 -> 0.019051929 | AA56: 762390 | AB56: =ABS(S56-V56) -> 319247 | AC56: =ABS(T56-W56) -> 0.419 | AD56: =IF(S56>V56,"D","R") -> R | AF56: =S56-F56 -> -21675 | AG56: =T56-G56 -> -0.015935693 | AH56: =V56-I56 -> -11826 | AI56: =W56-J56 -> 0.013752704 | AJ56: =Y56-L56 -> 1160 | AK56: =Z56-M56 -> 0.0022349178 | AL56: =AA56-N56 -> -32341 | AM56: =AL56/N56 -> -0.040694273 | AN56: =AB56-O56 -> 9849 | AO56: =AC56-P56 -> 0.029688396 | AP56: =IF(AF56>AH56,"D","R") -> R | AQ56: =IF(Q56<>AD56,"Y","")
C57: Wisconsin | D57: WI | F57: 1630866 | G57: =F57/N57 -> 0.49449537 | H57: 10 | I57: 1610184 | J57: =I57/N57 -> 0.48822437 | L57: 56991 | M57: =L57/N57 -> 0.017280258 | N57: 3298041 | O57: =ABS(F57-I57) -> 20682 | P57: =ABS(G57-J57) -> 0.0062709954 | Q57: =IF(F57>I57,"D","R") -> D | S57: 1668229 | T57: 0.487 | V57: 1697626 | W57: 0.496 | X57: 10 | Y57: 57063 | Z57: =Y57/AA57 -> 0.016670864 | AA57: 3422918 | AB57: =ABS(S57-V57) -> 29397 | AC57: =ABS(T57-W57) -> 0.009 | AD57: =IF(S57>V57,"D","R") -> R | AF57: =S57-F57 -> 37363 | AG57: =T57-G57 -> -0.0074953686 | AH57: =V57-I57 -> 87442 | AI57: =W57-J57 -> 0.0077756268 | AJ57: =Y57-L57 -> 72 | AK57: =Z57-M57 -> -0.00060939432 | AL57: =AA57-N57 -> 124877 | AM57: =AL57/N57 -> 0.037863993 | AN57: =AB57-O57 -> 8715 | AO57: =AC57-P57 -> 0.0027290046 | AP57: =IF(AF57>AH57,"D","R") -> R | AQ57: =IF(Q57<>AD57,"Y","") -> Y
C58: Wyoming | D58: WY | F58: 73491 | G58: =F58/N58 -> 0.26553574 | I58: 193559 | J58: =I58/N58 -> 0.69936227 | K58: 3 | L58: 9715 | M58: =L58/N58 -> 0.035101982 | N58: 276765 | O58: =ABS(F58-I58) -> 120068 | P58: =ABS(G58-J58) -> 0.43382653 | Q58: =IF(F58>I58,"D","R") -> R | S58: 69527 | T58: 0.258 | V58: 192633 | W58: 0.716 | X58: 3 | Y58: 6888 | Z58: =Y58/AA58 -> 0.02560138 | AA58: 269048 | AB58: =ABS(S58-V58) -> 123106 | AC58: =ABS(T58-W58) -> 0.458 | AD58: =IF(S58>V58,"D","R") -> R | AF58: =S58-F58 -> -3964 | AG58: =T58-G58 -> -0.0075357433 | AH58: =V58-I58 -> -926 | AI58: =W58-J58 -> 0.016637725 | AJ58: =Y58-L58 -> -2827 | AK58: =Z58-M58 -> -0.0095006021 | AL58: =AA58-N58 -> -7717 | AM58: =AL58/N58 -> -0.027882861 | AN58: =AB58-O58 -> 3038 | AO58: =AC58-P58 -> 0.024173468 | AP58: =IF(AF58>AH58,"D","R") -> R | AQ58: =IF(Q58<>AD58,"Y","")
C60: United States | D60: USA | F60: 81283501 | G60: =F60/N60 -> 0.51305744 | H60: 306 | I60: 74223975 | J60: =I60/N60 -> 0.46849806 | K60: 232 | L60: 2922155 | M60: =L60/N60 -> 0.018444498 | N60: 158429631 | O60: =ABS(F60-I60) -> 7059526 | P60: =ABS(G60-J60) -> 0.044559379 | Q60: =IF(F60>I60,"D","R") -> D | S60: =SUM(S8:S58) -> 75015837 | T60: =S60/AA60 -> 0.48339557 | U60: =SUM(U8:U58) -> 226 | V60: =SUM(V8:V58) -> 77302170 | W60: =V60/AA60 -> 0.49812851 | X60: =SUM(X8:X58) -> 312 | Y60: =SUM(Y8:Y58) -> 2867189 | Z60: =Y60/AA60 -> 0.018475918 | AA60: =SUM(AA8:AA58) -> 155185196 | AB60: =ABS(S60-V60) -> 2286333 | AC60: =ABS(T60-W60) -> 0.014732932 | AD60: =IF(S60>V60,"D","R") -> R | AF60: =S60-F60 -> -6267664 | AG60: =T60-G60 -> -0.029661866 | AH60: =V60-I60 -> 3078195 | AI60: =W60-J60 -> 0.029630446 | AJ60: =Y60-L60 -> -54966 | AK60: =Z60-M60 -> 3.1420359e-05 | AL60: =AA60-N60 -> -3244435 | AM60: =AL60/N60 -> -0.020478713 | AN60: =AB60-O60 -> -4773193 | AO60: =AC60-P60 -> -0.029826447 | AP60: =IF(AF60>AH60,"D","R") -> R | AQ60: =IF(Q60<>AD60,"Y","") -> Y
C62: Swing state
C65: Sources
C67: 2020 Election | F67: Federal Elections Commission. “Federal Election Results 2020: Election Results for the U.S. President, the U.S. Senate and the U.S. House of Representatives.”, Oct. 2022,
F68: https://www.fec.gov/resources/cms-content/documents/federalelections2020.pdf
F69: Results by state on p. 7
C71: 2024 Election | F71: Wikipedia contributors. “'2024 United States presidential election.” Wikipedia, The Free Encyclopedia, 10 Dec 2024,
F72: https://en.wikipedia.org/w/index.php?title=2024_United_States_presidential_election
F73: Accessed 17 Dec 2024

Sheet Margin buckets
B2: Count of states by margin of victory
B4: 2020 | C4: 20204
A5: Less than 5% | B5: =COUNTIF(Combined!P$8:P$58,"<0.05") -> 8 | C5: =COUNTIF(Combined!AC$8:AC$58,"<0.05") -> 8
A6: 5% - 10% | B6: =COUNTIFS(Combined!P$8:P$58,">=0.05", Combined!P$8:P$58,"<0.1") -> 6 | C6: =COUNTIFS(Combined!AC$8:AC$58,">=0.05", Combined!AC$8:AC$58,"<0.1") -> 5
A7: 10% - 20% | B7: =COUNTIFS(Combined!P$8:P$58,">=0.1", Combined!P$8:P$58,"<0.2") -> 17 | C7: =COUNTIFS(Combined!AC$8:AC$58,">=0.1", Combined!AC$8:AC$58,"<0.2") -> 18
A8: 20% - 30% | B8: =COUNTIFS(Combined!P$8:P$58,">=0.2", Combined!P$8:P$58,"<0.3") -> 11 | C8: =COUNTIFS(Combined!AC$8:AC$58,">=0.2", Combined!AC$8:AC$58,"<0.3") -> 10
A9: 30% - 40% | B9: =COUNTIFS(Combined!P$8:P$58,">=0.3", Combined!P$8:P$58,"<0.4") -> 7 | C9: =COUNTIFS(Combined!AC$8:AC$58,">=0.3", Combined!AC$8:AC$58,"<0.4") -> 7
A10: Greater than 40% | B10: =COUNTIF(Combined!P$8:P$58,">0.4") -> 2 | C10: =COUNTIF(Combined!AC$8:AC$58,">0.4") -> 3
